BEGIN:VCALENDAR
VERSION:2.0
PRODID:-//LSAC//Event Calendar//EN
BEGIN:VEVENT
UID:69e639760db7e
DTSTAMP:20260420T143430Z
DTSTART:20230517T040000Z
DTEND:20230520T035900Z
SUMMARY:LSAC National 2023 Conference
DESCRIPTION:The Learning Specialists Association of Canada (LSAC) is hosting its biannual National Conference on May 17, 18, 19, 2023, at UNBC in Prince George, BC!
LOCATION:University of Northern British Columbia | Prince George, British Columbia
END:VEVENT
END:VCALENDAR
